BEGIN:VCALENDAR
VERSION:2.0
PRODID:-//Tukios.com/
BEGIN:VEVENT
UID:42f43424-9896-4728-8f64-9766a2fec57a@obits.burnsgarfield.com
DTSTAMP:20260424T203544Z
DTSTART:20260502T153000Z
DTEND:20260502T163000Z
SUMMARY:Interment
DESCRIPTION:
URL:https://obits.burnsgarfield.com/obituaries/antonino-guerrero-jr
LOCATION:  E Genesee St   NY 13214
GEO:43.0365662;-76.0741908
END:VEVENT
END:VCALENDAR