BEGIN:VCALENDAR
VERSION:2.0
PRODID:-//Tukios.com/
BEGIN:VEVENT
UID:4a1ed261-4eca-47be-8ba1-5f870b6c4881@obits.burnsgarfield.com
DTSTAMP:20260424T203757Z
DTSTART:20260502T140000Z
DTEND:20260502T150000Z
SUMMARY:Mass
DESCRIPTION:
URL:https://obits.burnsgarfield.com/obituaries/antonino-guerrero-jr
LOCATION:Basilica of the Sacred Heart of Jesus 927 Park Ave  Syracuse NY 
	13204
GEO:43.0519859;-76.1791996
END:VEVENT
END:VCALENDAR