BEGIN:VCALENDAR
VERSION:2.0
PRODID:-//Tukios.com/
BEGIN:VEVENT
UID:27675efa-a6ec-44a4-94dc-950efafa150e@obits.burnsgarfield.com
DTSTAMP:20260424T204306Z
DTSTART:20260501T210000Z
DTEND:20260502T000000Z
SUMMARY:Visitation
DESCRIPTION:
URL:https://obits.burnsgarfield.com/obituaries/antonino-guerrero-jr
LOCATION: 3175 E. Genesee St. Suite 6 Syracuse NY 13224
GEO:43.0432151;-76.0969794
END:VEVENT
END:VCALENDAR