BEGIN:VCALENDAR
VERSION:2.0
PRODID:-//Tukios.com/
BEGIN:VEVENT
UID:9a307409-5c9d-46e3-a2ed-c3a6ca8f10c4@obits.burnsgarfield.com
DTSTAMP:20260424T204551Z
DTSTART:20260430T210000Z
DTEND:20260501T000000Z
SUMMARY:Visitation
DESCRIPTION:
URL:https://obits.burnsgarfield.com/obituaries/antonino-guerrero-jr
LOCATION: 3175 E. Genesee St. Suite 6 Syracuse NY 13224
GEO:43.0432151;-76.0969794
END:VEVENT
END:VCALENDAR